1.0000000000
0.0000000000
0.0000000000
-1.0000000000
641000.4999999992
5319999.5000000009
