1.0000000000
0.0000000000
0.0000000000
-1.0000000000
640000.5000000005
5339999.5000000009
