1.0000000000
0.0000000000
0.0000000000
-1.0000000000
640000.4999999997
5336999.5000000000
