1.0000000000
0.0000000000
0.0000000000
-1.0000000000
640000.4999999993
5324999.5000000000
