1.0000000000
0.0000000000
0.0000000000
-1.0000000000
640000.4999999991
5322999.5000000000
