1.0000000000
0.0000000000
0.0000000000
-1.0000000000
639000.4999999992
5345999.5000000009
