1.0000000000
0.0000000000
0.0000000000
-1.0000000000
639000.4999999994
5333999.5000000009
