1.0000000000
0.0000000000
0.0000000000
-1.0000000000
639000.5000000000
5332999.5000000009
