1.0000000000
0.0000000000
0.0000000000
-1.0000000000
638000.5000000005
5338999.5000000000
