1.0000000000
0.0000000000
0.0000000000
-1.0000000000
638000.4999999991
5320999.5000000009
