1.0000000000
0.0000000000
0.0000000000
-1.0000000000
637000.4999999993
5340999.5000000000
