1.0000000000
0.0000000000
0.0000000000
-1.0000000000
636000.4999999993
5344999.5000000009
