1.0000000000
0.0000000000
0.0000000000
-1.0000000000
636000.4999999994
5336999.5000000000
