1.0000000000
0.0000000000
0.0000000000
-1.0000000000
636000.5000000004
5323999.5000000000
