1.0000000000
0.0000000000
0.0000000000
-1.0000000000
635000.4999999999
5336999.5000000009
