1.0000000000
0.0000000000
0.0000000000
-1.0000000000
635000.4999999995
5333999.5000000009
