1.0000000000
0.0000000000
0.0000000000
-1.0000000000
635000.5000000001
5329999.5000000009
