1.0000000000
0.0000000000
0.0000000000
-1.0000000000
635000.5000000000
5322999.5000000000
