1.0000000000
0.0000000000
0.0000000000
-1.0000000000
634000.4999999992
5335999.5000000009
