1.0000000000
0.0000000000
0.0000000000
-1.0000000000
633000.4999999998
5336999.5000000000
