1.0000000000
0.0000000000
0.0000000000
-1.0000000000
633000.4999999991
5324999.5000000009
