1.0000000000
0.0000000000
0.0000000000
-1.0000000000
633000.5000000001
5322999.5000000000
