1.0000000000
0.0000000000
0.0000000000
-1.0000000000
632000.4999999991
5349578.5000000000
