1.0000000000
0.0000000000
0.0000000000
-1.0000000000
632000.5000000005
5344999.5000000009
