1.0000000000
0.0000000000
0.0000000000
-1.0000000000
631000.4999999995
5343999.5000000000
