1.0000000000
0.0000000000
0.0000000000
-1.0000000000
631000.5000000006
5340999.5000000000
