1.0000000000
0.0000000000
0.0000000000
-1.0000000000
631000.5000000002
5332999.5000000009
