1.0000000000
0.0000000000
0.0000000000
-1.0000000000
630000.4999999991
5348999.5000000000
