1.0000000000
0.0000000000
0.0000000000
-1.0000000000
630000.5000000002
5338999.5000000009
