1.0000000000
0.0000000000
0.0000000000
-1.0000000000
630878.4999999998
5328615.5000000009
