1.0000000000
0.0000000000
0.0000000000
-1.0000000000
629000.4999999993
5347999.5000000009
