1.0000000000
0.0000000000
0.0000000000
-1.0000000000
629000.5000000006
5332999.5000000000
