1.0000000000
0.0000000000
0.0000000000
-1.0000000000
628000.4999999993
5334999.5000000000
