1.0000000000
0.0000000000
0.0000000000
-1.0000000000
627000.4999999998
5342999.5000000009
