1.0000000000
0.0000000000
0.0000000000
-1.0000000000
627000.4999999997
5332999.5000000000
