1.0000000000
0.0000000000
0.0000000000
-1.0000000000
626000.4999999994
5348999.5000000000
