1.0000000000
0.0000000000
0.0000000000
-1.0000000000
626000.4999999991
5333999.5000000000
