1.0000000000
0.0000000000
0.0000000000
-1.0000000000
625000.4999999994
5349999.5000000000
