1.0000000000
0.0000000000
0.0000000000
-1.0000000000
625000.4999999992
5340999.5000000009
