1.0000000000
0.0000000000
0.0000000000
-1.0000000000
624000.4999999994
5342999.5000000000
