1.0000000000
0.0000000000
0.0000000000
-1.0000000000
624000.4999999998
5338999.5000000009
