1.0000000000
0.0000000000
0.0000000000
-1.0000000000
624000.4999999995
5333999.5000000000
