1.0000000000
0.0000000000
0.0000000000
-1.0000000000
624000.4999999994
5332999.5000000009
