1.0000000000
0.0000000000
0.0000000000
-1.0000000000
623000.4999999993
5343999.5000000000
