1.0000000000
0.0000000000
0.0000000000
-1.0000000000
622000.5000000002
5342999.5000000000
