1.0000000000
0.0000000000
0.0000000000
-1.0000000000
622000.4999999992
5341999.5000000009
