1.0000000000
0.0000000000
0.0000000000
-1.0000000000
621000.4999999999
5339999.5000000009
