1.0000000000
0.0000000000
0.0000000000
-1.0000000000
619000.4999999997
5339999.5000000000
