1.0000000000
0.0000000000
0.0000000000
-1.0000000000
618000.5000000002
5356758.5000000000
