1.0000000000
0.0000000000
0.0000000000
-1.0000000000
617000.4999999994
5355999.5000000000
